BEGIN:VCALENDAR
VERSION:2.0
PRODID:-//Clifton Park Open Spaces - ECPv6.15.20//NONSGML v1.0//EN
CALSCALE:GREGORIAN
METHOD:PUBLISH
X-ORIGINAL-URL:https://cliftonparkopenspaces.org
X-WR-CALDESC:Events for Clifton Park Open Spaces
REFRESH-INTERVAL;VALUE=DURATION:PT1H
X-Robots-Tag:noindex
X-PUBLISHED-TTL:PT1H
BEGIN:VTIMEZONE
TZID:UTC
BEGIN:STANDARD
TZOFFSETFROM:+0000
TZOFFSETTO:+0000
TZNAME:UTC
DTSTART:20170101T000000
END:STANDARD
END:VTIMEZONE
BEGIN:VEVENT
DTSTART;TZID=UTC:20181111T073000
DTEND;TZID=UTC:20181111T120000
DTSTAMP:20260425T194346
CREATED:20180104T210443Z
LAST-MODIFIED:20180104T210443Z
UID:4731-1541921400-1541937600@cliftonparkopenspaces.org
SUMMARY:Fall Birding Field Trip
DESCRIPTION:Join the Hudson-Mohawk Bird Club for a club guided bird walk on Sunday\, Nov. 11\, 2018\, from 7:30 a.m. to Noon\, at the Vischer Ferry Nature & Historic Preserve. For more information see the club website at www.hmbc.net.
URL:https://cliftonparkopenspaces.org/event/fall-birding-field-trip/
LOCATION:Vischer Ferry Nature & Historic Preserve
CATEGORIES:Birding,Vischer Ferry
END:VEVENT
BEGIN:VEVENT
DTSTART;TZID=UTC:20180513T073000
DTEND;TZID=UTC:20180513T120000
DTSTAMP:20260425T194346
CREATED:20180104T205552Z
LAST-MODIFIED:20180104T210002Z
UID:4727-1526196600-1526212800@cliftonparkopenspaces.org
SUMMARY:Spring Birding Field Trip
DESCRIPTION:The Hudson-Mohawk Bird Club is leading a club trip to listen and look for warblers\, songbirds\, herons and rails\, at the Vischer Ferry Nature & Historic Preserve on Sunday\, May 13\, 2018. Event time is 7:30 a.m. to Noon.  Meet up at the Vischer Ferry Nature & Historic Preserve main entrance\, at the intersection of Riverview Road and Van Vranken Road in the Town of Clifton Park.  For more information contact the Hudson-Mohawk Bird Club at www.hmbc.net to confirm your participation.
URL:https://cliftonparkopenspaces.org/event/spring-birding-field-trip/
LOCATION:Vischer Ferry Nature & Historic Preserve
CATEGORIES:Birding,Vischer Ferry
END:VEVENT
BEGIN:VEVENT
DTSTART;TZID=UTC:20180415T080000
DTEND;TZID=UTC:20180415T120000
DTSTAMP:20260425T194346
CREATED:20180104T210812Z
LAST-MODIFIED:20180104T210812Z
UID:4734-1523779200-1523793600@cliftonparkopenspaces.org
SUMMARY:April Birding Field Trip
DESCRIPTION:Join the members of the Hudson-Mohawk Bird Club for a birding walk on Sunday\, April 15\, 2018 from 8 a.m. to Noon at the Vischer Ferry Nature & Historic Preserve\, at the main entrance at the Whipple Bridge. Please see the club website for more information at www.hmbc.net.
URL:https://cliftonparkopenspaces.org/event/april-birding-field-trip/
LOCATION:Vischer Ferry Nature & Historic Preserve
CATEGORIES:Birding,Vischer Ferry
END:VEVENT
END:VCALENDAR