BEGIN:VCALENDAR
VERSION:2.0
PRODID:-//Clifton Park Open Spaces - ECPv6.15.20//NONSGML v1.0//EN
CALSCALE:GREGORIAN
METHOD:PUBLISH
X-ORIGINAL-URL:https://cliftonparkopenspaces.org
X-WR-CALDESC:Events for Clifton Park Open Spaces
REFRESH-INTERVAL;VALUE=DURATION:PT1H
X-Robots-Tag:noindex
X-PUBLISHED-TTL:PT1H
BEGIN:VTIMEZONE
TZID:UTC
BEGIN:STANDARD
TZOFFSETFROM:+0000
TZOFFSETTO:+0000
TZNAME:UTC
DTSTART:20150101T000000
END:STANDARD
END:VTIMEZONE
BEGIN:VEVENT
DTSTART;TZID=UTC:20161015T180000
DTEND;TZID=UTC:20161015T200000
DTSTAMP:20260425T190456
CREATED:20160720T155437Z
LAST-MODIFIED:20160919T205856Z
UID:4241-1476554400-1476561600@cliftonparkopenspaces.org
SUMMARY:"Things that Go Bump in the Night" Event
DESCRIPTION:Guided nature walks\, family-friendly activities\, storytelling\, and light refreshments will be presented as part of this early evening event\, by the Town of Clifton Park Open Space\, Trails & Riverfront Committee at Veterans Memorial Park\, located off of Elks Trail\, off of MacElroy Road\, in northern Clifton Park.\nPlease register through the town’s Parks & Recreation Department’s new online system at www.cliftonpark.org.
URL:https://cliftonparkopenspaces.org/event/things-that-go-bump-in-the-night-event/
LOCATION:Veterans Memorial Park & Mooney Carrese Forest\, Elks Trail\, off of MacElroy Road\, Clifton Park
CATEGORIES:Family Event,Guided,Night Walk,Trails,Veterans Memorial
END:VEVENT
BEGIN:VEVENT
DTSTART;TZID=UTC:20161005T093000
DTEND;TZID=UTC:20161005T223000
DTSTAMP:20260425T190456
CREATED:20160927T152530Z
LAST-MODIFIED:20160927T152530Z
UID:4282-1475659800-1475706600@cliftonparkopenspaces.org
SUMMARY:Mom & Tot Hike at North Woods Nature Preserve
DESCRIPTION:Please register for this parent/guardian and child program through the Town of Clifton Park Parks & Recreation Registration Portal at www.cliftonpark.org
URL:https://cliftonparkopenspaces.org/event/mom-tot-hike-at-north-woods-nature-preserve/
LOCATION:North Woods Nature Preserve
CATEGORIES:Family Event,Nature Tot,North Woods,Parent & Me Hike
END:VEVENT
BEGIN:VEVENT
DTSTART;TZID=UTC:20160518T093000
DTEND;TZID=UTC:20160518T101500
DTSTAMP:20260425T190456
CREATED:20160310T195955Z
LAST-MODIFIED:20160310T195955Z
UID:4093-1463563800-1463566500@cliftonparkopenspaces.org
SUMMARY:Nature Tot: "In a Grasshopper's World" Program on May 18
DESCRIPTION:“Nature Tot”\, a nature education program for children ages 2 to 5\, with younger siblings welcome\, will be offered on Wednesday\, May 18\, at 9:30 a.m. to 10:15 a.m. at the Historic Grooms Tavern. This month’s program theme is “In a Grasshopper’s World.”  Please call 371-6667 to register with the Town’s Parks\, Recreation & Community Affairs Department. \nParent participation is required. \nNature-based lessons\, songs\, and crafts will be offered to introduce little ones to the great outdoors and the amazing creatures and plants living among us. \nHistoric Grooms Tavern is located at the intersection of Grooms Road and Sugar Hill Road\, in the Town of Clifton Park.  The parking lot entrance is accessible from Grooms Road.
URL:https://cliftonparkopenspaces.org/event/nature-tot-in-a-grasshoppers-world-program-on-may-18/
LOCATION:Historic Grooms Tavern\, 290 Sugar Hill Road\, Rexford\, NY\, 12148\, United States
CATEGORIES:Family Event,Grasshoppers,Historic Grooms Tavern,Nature Tot
END:VEVENT
BEGIN:VEVENT
DTSTART;TZID=UTC:20160514T100000
DTEND;TZID=UTC:20160514T140000
DTSTAMP:20260425T190456
CREATED:20160208T145000Z
LAST-MODIFIED:20160428T183303Z
UID:3880-1463220000-1463234400@cliftonparkopenspaces.org
SUMMARY:Clifton Park's 3rd Annual Open Space Day
DESCRIPTION:
URL:https://cliftonparkopenspaces.org/event/clifton-park-open-spaces-celebration/
LOCATION:Historic Grooms Tavern\, 290 Sugar Hill Road\, Rexford\, NY\, 12148\, United States
CATEGORIES:Family Event,Historic Grooms Tavern,Open Space Day
END:VEVENT
BEGIN:VEVENT
DTSTART;TZID=UTC:20160507T090000
DTEND;TZID=UTC:20160507T160000
DTSTAMP:20260425T190456
CREATED:20160502T155607Z
LAST-MODIFIED:20160502T155607Z
UID:4183-1462611600-1462636800@cliftonparkopenspaces.org
SUMMARY:Apple Blossom Festival
DESCRIPTION:Join in the fun at Riverview Orchards in the Town of Clifton Park this Saturday\, May 7\, 2016\, from 9 a.m. to 4 p.m. Shenendehowa Rotary in conjunction with the Mohawk Towpath Scenic Byway and Riverview Orchards will be holding their 3nd Annual Apple Blossom Festival. Come and learn about the history of the Mohawk Towpath Scenic Byway and Apple Blossoms. \nThe Apple Blossom Festival will include hayrides\, live music\, face painting\, kite flying\, an obstacle course\, an ice cream eating contest\, giant bubbles\, canal clean sweep\, homemade Mother’s Day craft for kids and lots more fun and entertainment for the whole family. \nA roadside clean-up kicks off the event at 9 a.m. to 10 a.m. \nFrom 10 a.m. to 4 p.m.\, a host of activities will be available including folk dancing\, entertainment\, karaoke\, hay rides\, an ice cream eating contest featuring Stewart’s “Crumbs along the Mohawk” flavor. Giant bubble blowing\, crafts\, fairy gardening\, an obstacle course\, face painting and more will be featured. The event will be held rain or shine. \nMusical performers are: Matt Evans\, Amy & John Birchler\, and Raymond Anthony. \nAt 4 p.m. please check out a cycling time trial that will be hosted by the Friends of the Mohawk Towpath Scenic Byway\, Inc. \nThe festivities take place at Riverview Orchards\, 660 Riverview Road\, Rexford\, NY 12148\, which is next door to the Town of Clifton Park’s Mohawk Landing Nature Preserve. \nThe event is hosted by the Shenendehowa Rotary\, and Friends of the Mohawk Towpath Scenic Byway\, Inc. \nAdmission is free & open to the public.  For more information please call 371-2174.
URL:https://cliftonparkopenspaces.org/event/apple-blossom-festival/
LOCATION:Riverview Orchards\, 660 Riverview Road\, Rexford\, NY\, 12148\, United States
CATEGORIES:Agricultural Education,Apple Blossom Festival,Family Event,Local History,Mohawk Landing,Mohawk Towpath Scenic Byway,Shenendehowa Rotary
END:VEVENT
BEGIN:VEVENT
DTSTART;TZID=UTC:20160504T093000
DTEND;TZID=UTC:20160504T101500
DTSTAMP:20260425T190456
CREATED:20160310T192948Z
LAST-MODIFIED:20160310T192948Z
UID:4086-1462354200-1462356900@cliftonparkopenspaces.org
SUMMARY:"Parent & Me" Hike at North Woods Nature Preserve
DESCRIPTION:Families are invited to participate in a “Parent & Me” Hike on Wednesday\, May 4 at 9:30 a.m. at North Woods Nature Preserve\, with the trail head located between 38 & 40 Shadow Wood Way\, in the Town of Clifton Park\, NY.  Please register with the Town of Clifton Park and the Parks\, Recreation & Community Affairs Department by calling (518) 371-6667. \nThe stroll will last approximately 45 minutes and incorporate a nature education theme. \nThis hike is designed for young children in the care of parents\, grandparents or other caregivers\, who are would like to spend time outdoors and explore Clifton Park’s natural areas and open space. \nThis hike will be “jogging stroller friendly” but a child backpack or front carrier is recommended\, depending on the age of the child participants. \nPlease dress appropriately for trail conditions. \n 
URL:https://cliftonparkopenspaces.org/event/parent-me-hike-at-north-woods-nature-preserve/
LOCATION:North Woods Nature Preserve
CATEGORIES:Family Event,North Woods,Parent & Me Hike
END:VEVENT
BEGIN:VEVENT
DTSTART;TZID=UTC:20160420T093000
DTEND;TZID=UTC:20160420T101500
DTSTAMP:20260425T190456
CREATED:20160310T195559Z
LAST-MODIFIED:20160310T195559Z
UID:4092-1461144600-1461147300@cliftonparkopenspaces.org
SUMMARY:Nature Tot: "The Deep Blue Sea" Program on April 20
DESCRIPTION:“Nature Tot”\, a nature education program for children ages 2 to 5\, with younger siblings welcome\, will be offered on Wednesday\, April 20\, at 9:30 a.m. to 10:15 a.m. at the Historic Grooms Tavern. This month’s program theme is “The Deep Blue Sea.”  Please call 371-6667 to register with the Town’s Parks\, Recreation & Community Affairs Department. \nParent participation is required. \nNature-based lessons\, songs\, and crafts will be offered to introduce little ones to the great outdoors and the amazing creatures and plants living among us. \nHistoric Grooms Tavern is located at the intersection of Grooms Road and Sugar Hill Road\, in the Town of Clifton Park.  The parking lot entrance is accessible from Grooms Road.
URL:https://cliftonparkopenspaces.org/event/nature-tot-the-deep-blue-sea-program-on-april-20/
LOCATION:Historic Grooms Tavern\, 290 Sugar Hill Road\, Rexford\, NY\, 12148\, United States
CATEGORIES:Family Event,Historic Grooms Tavern,Nature Tot,Water
END:VEVENT
BEGIN:VEVENT
DTSTART;TZID=UTC:20160416T090000
DTEND;TZID=UTC:20160416T120000
DTSTAMP:20260425T190456
CREATED:20160208T205657Z
LAST-MODIFIED:20160209T155704Z
UID:3909-1460797200-1460808000@cliftonparkopenspaces.org
SUMMARY:Town Parks\, Nature Preserves & Trails Clean-Up Event
DESCRIPTION:
URL:https://cliftonparkopenspaces.org/event/town-parks-nature-preserves-trails-clean-up-event/
LOCATION:Garnsey Park\, 1461 NY 146\, Rexford\, NY\, 12148\, United States
CATEGORIES:Family Event,Spring Clean Up,Vischer Ferry,Volunteer Opportunitiy
END:VEVENT
BEGIN:VEVENT
DTSTART;TZID=UTC:20160406T093000
DTEND;TZID=UTC:20160406T101500
DTSTAMP:20260425T190456
CREATED:20160310T192241Z
LAST-MODIFIED:20160310T192241Z
UID:4084-1459935000-1459937700@cliftonparkopenspaces.org
SUMMARY:"Parent & Me" Hike at Veterans Memorial Park
DESCRIPTION:Families are invited to participate in a “Parent & Me” Hike on Wednesday\, April 6 at 9:30 a.m. at Veterans Memorial Park\, located off of Elks Trail\, off MacElroy Road\, in the Town of Clifton Park\, NY.  The stroll will last approximately 45 minutes and incorporate a nature education theme. Please register with the Town of Clifton Park and the Parks\, Recreation & Community Affairs Department by calling (518) 371-6667. \nThis hike is designed for young children in the care of parents\, grandparents or other caregivers\, who are would like to spend time outdoors and explore Clifton Park’s natural areas and open space. \nThis hike will be “jogging stroller friendly” but a child backpack or front carrier is recommended\, depending on the age of the child participants. \nPlease dress appropriately for trail conditions. \n 
URL:https://cliftonparkopenspaces.org/event/parent-me-hike-at-veterans-memorial-park/
LOCATION:North Woods Nature Preserve
CATEGORIES:Family Event,Parent & Me Hike,Veterans Memorial
END:VEVENT
BEGIN:VEVENT
DTSTART;TZID=UTC:20160323T093000
DTEND;TZID=UTC:20160323T101500
DTSTAMP:20260425T190456
CREATED:20160310T195101Z
LAST-MODIFIED:20160310T195101Z
UID:4089-1458725400-1458728100@cliftonparkopenspaces.org
SUMMARY:Nature Tot: "Spider Web Wonders" Program on March 23
DESCRIPTION:“Nature Tot”\, a nature education program for children ages 2 to 5\, with younger siblings welcome\, will be offered on Wednesday\, March 23\, at 9:30 a.m. to 10:15 a.m. at the Historic Grooms Tavern. This month’s program theme is “Spider Web Wonders.”  Please call 371-6667 to register with the Town’s Parks\, Recreation & Community Affairs Department. \nParent participation is required. \nNature-based lessons\, songs\, and crafts will be offered to introduce little ones to the great outdoors and the amazing creatures and plants living among us. \nHistoric Grooms Tavern is located at the intersection of Grooms Road and Sugar Hill Road\, in the Town of Clifton Park.  The parking lot entrance is accessible from Grooms Road.
URL:https://cliftonparkopenspaces.org/event/nature-tot-spider-web-wonders-program-on-march-23/
LOCATION:Historic Grooms Tavern\, 290 Sugar Hill Road\, Rexford\, NY\, 12148\, United States
CATEGORIES:Family Event,Historic Grooms Tavern,Nature Tot,Spiders
END:VEVENT
BEGIN:VEVENT
DTSTART;TZID=UTC:20160309T093000
DTEND;TZID=UTC:20160309T101500
DTSTAMP:20260425T190456
CREATED:20160310T194023Z
LAST-MODIFIED:20160310T194023Z
UID:4087-1457515800-1457518500@cliftonparkopenspaces.org
SUMMARY:"Parent & Me" Hike at Garnsey Park
DESCRIPTION:Families are invited to participate in a “Parent & Me” Hike on Wednesday\, March 9 at 9:30 a.m. at Garnsey Park\, located off of NYS Route 146\, in the Town of Clifton Park\, NY.  The stroll will last approximately 45 minutes and incorporate a nature education theme. Please register with the Town of Clifton Park and the Parks\, Recreation & Community Affairs Department by calling (518) 371-6667. \nThis hike is designed for young children in the care of parents\, grandparents or other caregivers\, who are would like to spend time outdoors and explore Clifton Park’s natural areas and open space. \nThis hike will be “jogging stroller friendly” but a child backpack or front carrier is recommended\, depending on the age of the child participants. \nPlease dress appropriately for trail conditions. \n 
URL:https://cliftonparkopenspaces.org/event/parent-me-hike-at-garnsey-park/
LOCATION:Garnsey Park\, 1461 NY 146\, Rexford\, NY\, 12148\, United States
CATEGORIES:Family Event,Garnsey,Parent & Me Hike
END:VEVENT
END:VCALENDAR