BEGIN:VCALENDAR
VERSION:2.0
PRODID:-//Clifton Park Open Spaces - ECPv6.15.20//NONSGML v1.0//EN
CALSCALE:GREGORIAN
METHOD:PUBLISH
X-WR-CALNAME:Clifton Park Open Spaces
X-ORIGINAL-URL:https://cliftonparkopenspaces.org
X-WR-CALDESC:Events for Clifton Park Open Spaces
REFRESH-INTERVAL;VALUE=DURATION:PT1H
X-Robots-Tag:noindex
X-PUBLISHED-TTL:PT1H
BEGIN:VTIMEZONE
TZID:UTC
BEGIN:STANDARD
TZOFFSETFROM:+0000
TZOFFSETTO:+0000
TZNAME:UTC
DTSTART:20170101T000000
END:STANDARD
END:VTIMEZONE
BEGIN:VEVENT
DTSTART;TZID=UTC:20180916T080000
DTEND;TZID=UTC:20180916T170000
DTSTAMP:20260425T184557
CREATED:20180914T153253Z
LAST-MODIFIED:20180914T153253Z
UID:4852-1537084800-1537117200@cliftonparkopenspaces.org
SUMMARY:Clifton Park Farm Fest Weekend: Sept. 15 & 16
DESCRIPTION:Clifton Park’s 26th Annual Farm Fest continues on Sunday\, Sept. 16\, 2018\, with events taking place from 8 a.m. to 5 p.m. \nA Hungry Farmer’s Breakfast kicks off at 8 a.m. to noon\, at the Vischer Ferry Fire Station #1\, 360 Riverview Road\, Rexford\, NY 12148\, www.vffd.org.  Events follow at Shepherd’s Hey Farm including “walking with sheep” at 2 p.m. and 4 p.m. in addition to live music and dance; as well as at Bowman Orchards\, Riverview Orchards and more. \nFarm Fest 2018 Schedule
URL:https://cliftonparkopenspaces.org/event/clifton-park-farm-fest-weekend-sept-15-16/
CATEGORIES:Agricultural Education,Family Event,Farm Fest
ATTACH;FMTTYPE=image/jpeg:https://cliftonparkopenspaces.org/wp-content/uploads/2018/09/21276236_1340773622715179_5355934066195562496_n.jpg
END:VEVENT
BEGIN:VEVENT
DTSTART;TZID=UTC:20180915T100000
DTEND;TZID=UTC:20180915T170000
DTSTAMP:20260425T184557
CREATED:20180914T152309Z
LAST-MODIFIED:20180914T152309Z
UID:4849-1537005600-1537030800@cliftonparkopenspaces.org
SUMMARY:Clifton Park Farm Fest Weekend: Sept. 15 and 16\, 2018
DESCRIPTION:
URL:https://cliftonparkopenspaces.org/event/clifton-park-farm-fest-weekend-sept-15-and-16-2018/
CATEGORIES:Agricultural Education,Family Event,Farm Fest
ATTACH;FMTTYPE=image/jpeg:https://cliftonparkopenspaces.org/wp-content/uploads/2018/09/21276236_1340773622715179_5355934066195562496_n.jpg
END:VEVENT
END:VCALENDAR