BEGIN:VCALENDAR
VERSION:2.0
PRODID:-//Clifton Park Open Spaces - ECPv6.15.20//NONSGML v1.0//EN
CALSCALE:GREGORIAN
METHOD:PUBLISH
X-WR-CALNAME:Clifton Park Open Spaces
X-ORIGINAL-URL:https://cliftonparkopenspaces.org
X-WR-CALDESC:Events for Clifton Park Open Spaces
REFRESH-INTERVAL;VALUE=DURATION:PT1H
X-Robots-Tag:noindex
X-PUBLISHED-TTL:PT1H
BEGIN:VTIMEZONE
TZID:UTC
BEGIN:STANDARD
TZOFFSETFROM:+0000
TZOFFSETTO:+0000
TZNAME:UTC
DTSTART:20150101T000000
END:STANDARD
END:VTIMEZONE
BEGIN:VEVENT
DTSTART;TZID=UTC:20190201T130000
DTEND;TZID=UTC:20190201T150000
DTSTAMP:20260425T172520
CREATED:20181107T205204Z
LAST-MODIFIED:20181107T205204Z
UID:4949-1549026000-1549033200@cliftonparkopenspaces.org
SUMMARY:Stewardship Hike at Hayes Nature Park on Feb. 1\, 2019
DESCRIPTION:Join the Town of Clifton Park Open Space\, Trails & Riverfront Committee for a First Friday Hike on February 1\, 2019 at just before 1 p.m. at the Hayes Nature Park. \nHayes Nature Park is located at 233 Moe Road\, Clifton Park\, NY 12065.  The parking lot entrance is directly off of Moe Road\, immediately north of the intersection with Thoroughbred Way. \nPlease meet up shortly before 1 p.m.  The hike length will depend on weather conditions\, and range from 1 hour to 1.5 hours. \nPlease RSVP by calling the Open Space Coordinator at (518) 371-6054.
URL:https://cliftonparkopenspaces.org/event/stewardship-hike-at-hayes-nature-park-on-feb-1-2019/
CATEGORIES:Hayes Nature Park,Stewardship Hike
END:VEVENT
BEGIN:VEVENT
DTSTART;TZID=UTC:20180413T130000
DTEND;TZID=UTC:20180413T150000
DTSTAMP:20260425T172520
CREATED:20171213T151202Z
LAST-MODIFIED:20171213T151202Z
UID:4698-1523624400-1523631600@cliftonparkopenspaces.org
SUMMARY:Explore the new West Sky Trail on April 13
DESCRIPTION:Meet up at Hayes Nature Park\, in the small parking lot off of Moe Road\, to take a guided tour of the West Sky Natural Area’s neighborhood connector trail\, the West Sky Trail\, for this month’s Stewardship Hike. \nPlease RSVP by calling (518) 371-6054. \n 
URL:https://cliftonparkopenspaces.org/event/explore-the-new-west-sky-trail-on-april-13/
LOCATION:Hayes Nature Park\, 233 Moe Road\, Clifton Park\, NY\, 12065\, United States
CATEGORIES:Hayes Nature Park,Stewardship Hike,West Sky Natural Area
END:VEVENT
BEGIN:VEVENT
DTSTART;TZID=UTC:20171013T130000
DTEND;TZID=UTC:20171013T143000
DTSTAMP:20260425T172520
CREATED:20170725T184433Z
LAST-MODIFIED:20170725T193724Z
UID:4592-1507899600-1507905000@cliftonparkopenspaces.org
SUMMARY:Hike at Hayes Nature Park & West Sky Natural Area vicinity
DESCRIPTION:Please join the Town of Clifton Park Open Space\, Trails & Riverfront Committee for a Stewardship Hike at Hayes Nature Park and time permitting\, of the West Sky Natural Area as well.  We will scan for current conditions and note observations.  Meet up is just before 1 p.m. at the Hayes Nature Park – Moe Road entrance where there is a small parking lot. \nPlease RSVP by calling the Open Space Coordinator at (518) 371-6054.
URL:https://cliftonparkopenspaces.org/event/hike-at-hayes-nature-park-west-sky-natural-area-vicinity/
LOCATION:Hayes Nature Park\, 233 Moe Road\, Clifton Park\, NY\, 12065\, United States
CATEGORIES:Hayes Nature Park,Stewardship Hike
END:VEVENT
BEGIN:VEVENT
DTSTART;TZID=UTC:20161102T093000
DTEND;TZID=UTC:20161102T223000
DTSTAMP:20260425T172520
CREATED:20160927T161809Z
LAST-MODIFIED:20160927T183932Z
UID:4293-1478079000-1478125800@cliftonparkopenspaces.org
SUMMARY:Mom & Tot Nature Hike at Hayes Nature Park
DESCRIPTION:Please register through the Town of Clifton Park Recreational Programs Registration Portal at www.cliftonpark.org
URL:https://cliftonparkopenspaces.org/event/mom-tot-nature-hike-at-hayes-nature-park/
LOCATION:Hayes Nature Park\, 233 Moe Road\, Clifton Park\, NY\, 12065\, United States
CATEGORIES:Family Event,Hayes Nature Park,Nature Tot,Parent & Me Hike
END:VEVENT
BEGIN:VEVENT
DTSTART;TZID=UTC:20160625T100000
DTEND;TZID=UTC:20160625T120000
DTSTAMP:20260425T172520
CREATED:20160524T153102Z
LAST-MODIFIED:20160524T154817Z
UID:4210-1466848800-1466856000@cliftonparkopenspaces.org
SUMMARY:"Hike" & Seek for Clues and Guess the Book! A Literary Nature Walk @ Hayes Nature Park
DESCRIPTION:The first Book Walk & Talk is Saturday\, June 25\, 2016\, starting at 10 a.m. until noon\, at Hayes Nature Park\, located off of Moe Road\, on the east side of the road\, south of Huntwood Drive\, and just north of Thoroughbred Way.  This activity is presented by the Clifton Park – Halfmoon Library — out in the parks!  A small parking lot is available off of Moe Road. \nClues will be placed along an approximately\, 1-mile trail route — for participants to guess which book is being profiled.  All ages are welcome to join in the activity. \nThe activity will involve a group discussion and a walk at the beginning of each session\, or participants may arrive later for a solo walk. Trail maps will be available between 10 a.m. and noon that day. \nJoin the Clifton Park – Halfmoon Library staff this summer for a series of literary nature walks on nature trails throughout the Town of Clifton Park.  The second event will take place on Friday\, July 15\, at 10 a.m. at North Woods Nature Preserve.  The third Book Walk & Talk will be on Thursday\, August 4\, at 7 p.m. to 9 p.m.\, at Veterans Memorial Park. \nFor more information please call (518) 371-8622 and ask about the BOOK WALK & TALK program.  www.cphlibrary.org
URL:https://cliftonparkopenspaces.org/event/hike-seek-for-clues-and-guess-the-book-a-literary-nature-walk-hayes-nature-park/
LOCATION:Hayes Nature Park\, 233 Moe Road\, Clifton Park\, NY\, 12065\, United States
CATEGORIES:Clifton Park-Halfmoon Library,Hayes Nature Park,Literary Nature Walk,Trails
END:VEVENT
END:VCALENDAR