BEGIN:VCALENDAR
VERSION:2.0
PRODID:-//Clifton Park Open Spaces - ECPv6.15.20//NONSGML v1.0//EN
CALSCALE:GREGORIAN
METHOD:PUBLISH
X-WR-CALNAME:Clifton Park Open Spaces
X-ORIGINAL-URL:https://cliftonparkopenspaces.org
X-WR-CALDESC:Events for Clifton Park Open Spaces
REFRESH-INTERVAL;VALUE=DURATION:PT1H
X-Robots-Tag:noindex
X-PUBLISHED-TTL:PT1H
BEGIN:VTIMEZONE
TZID:UTC
BEGIN:STANDARD
TZOFFSETFROM:+0000
TZOFFSETTO:+0000
TZNAME:UTC
DTSTART:20170101T000000
END:STANDARD
END:VTIMEZONE
BEGIN:VEVENT
DTSTART;TZID=UTC:20180210T100000
DTEND;TZID=UTC:20180210T120000
DTSTAMP:20260425T221419
CREATED:20180104T175701Z
LAST-MODIFIED:20180104T175701Z
UID:4714-1518256800-1518264000@cliftonparkopenspaces.org
SUMMARY:Winterfest 2018: Ice Fishing Demonstration
DESCRIPTION:Dress warm for Saturday\, February 10\, 2018\, from 10 a.m. to noon\, and check out an ice fishing demonstration at Barney Road Pond\, winter conditions permitting\, as part of the Town of Clifton Park Winterfest 2018 offerings. This activity is an opportunity for families\, and all ages. \nFor more information\, call the Town of Clifton Park Parks\, Recreation & Community Affairs at (518) 371-6667. \n 
URL:https://cliftonparkopenspaces.org/event/winterfest-2018-ice-fishing-demonstration/
LOCATION:Barney Road Park\, 1 Barney Road\, Clifton Park\, NY\, United States
CATEGORIES:Family Event,Ice Fishing,Winter Fest
END:VEVENT
END:VCALENDAR