BEGIN:VCALENDAR
VERSION:2.0
PRODID:-//Clifton Park Open Spaces - ECPv6.15.20//NONSGML v1.0//EN
CALSCALE:GREGORIAN
METHOD:PUBLISH
X-ORIGINAL-URL:https://cliftonparkopenspaces.org
X-WR-CALDESC:Events for Clifton Park Open Spaces
REFRESH-INTERVAL;VALUE=DURATION:PT1H
X-Robots-Tag:noindex
X-PUBLISHED-TTL:PT1H
BEGIN:VTIMEZONE
TZID:UTC
BEGIN:STANDARD
TZOFFSETFROM:+0000
TZOFFSETTO:+0000
TZNAME:UTC
DTSTART:20170101T000000
END:STANDARD
END:VTIMEZONE
BEGIN:VEVENT
DTSTART;TZID=UTC:20180302T130000
DTEND;TZID=UTC:20180302T150000
DTSTAMP:20260425T221215
CREATED:20171213T145546Z
LAST-MODIFIED:20171213T145807Z
UID:4685-1519995600-1520002800@cliftonparkopenspaces.org
SUMMARY:Invasive Species Walk on March 2
DESCRIPTION:For this month’s Town of Clifton Park Stewardship Hike\, the Open Space\, Trails & Riverfront Committee is hosting a naturalist to help lead a guided walk to identify and discuss invasive species at the Vischer Ferry Nature & Historic Preserve on Friday\, March 2\, 2018 at 1 p.m.  Meet up at the Whipple Bridge\, off of Riverview Road. This event is part of a recognition of National Invasive Species Awareness Week\, https://www.nisaw.org/\, which is Feb. 26 through March 2\, 2018. \nThe walk may be up to two hours in length.  Please dress accordingly for the weather conditions. If there is snow\, please bring your own snowshoes/poles. \nPlease RSVP at (518) 371-6054.
URL:https://cliftonparkopenspaces.org/event/invasive-species-walk-on-march-2/
LOCATION:Vischer Ferry Nature & Historic Preserve
CATEGORIES:Invasive Species Awareness,Stewardship Hike,Vischer Ferry
END:VEVENT
END:VCALENDAR