BEGIN:VCALENDAR
VERSION:2.0
PRODID:-//Clifton Park Open Spaces - ECPv6.15.20//NONSGML v1.0//EN
CALSCALE:GREGORIAN
METHOD:PUBLISH
X-WR-CALNAME:Clifton Park Open Spaces
X-ORIGINAL-URL:https://cliftonparkopenspaces.org
X-WR-CALDESC:Events for Clifton Park Open Spaces
REFRESH-INTERVAL;VALUE=DURATION:PT1H
X-Robots-Tag:noindex
X-PUBLISHED-TTL:PT1H
BEGIN:VTIMEZONE
TZID:UTC
BEGIN:STANDARD
TZOFFSETFROM:+0000
TZOFFSETTO:+0000
TZNAME:UTC
DTSTART:20160101T000000
END:STANDARD
END:VTIMEZONE
BEGIN:VEVENT
DTSTART;TZID=UTC:20181207T190000
DTEND;TZID=UTC:20181207T203000
DTSTAMP:20260425T150706
CREATED:20181107T195043Z
LAST-MODIFIED:20181107T200015Z
UID:4928-1544209200-1544214600@cliftonparkopenspaces.org
SUMMARY:Fly Fishing Demo on Dec. 7 at Historic Grooms Tavern
DESCRIPTION:Join fishing experts for an informational evening about Fly Fishing at a “First Friday” at the Historic Grooms Tavern\, on Friday\, Dec. 7\, 2018 at 7 p.m.  The discussion will highlight fly-fishing as a rewarding hobby. \nFly Fishing Event 12-7-18 at Historic Grooms Tavern \nThe Historic Grooms Tavern has a parking lot entrance directly on Grooms Road\, at the intersection with 290 Sugar Hill Road. \nFor more information\, please call the Town’s Parks & Recreation Department at (518) 371-6667.
URL:https://cliftonparkopenspaces.org/event/fly-fishing-demo-on-dec-7-at-historic-grooms-tavern/
LOCATION:Historic Grooms Tavern\, 290 Sugar Hill Road\, Rexford\, NY\, 12148\, United States
CATEGORIES:Fly Fishing Event,Learn to Fish
END:VEVENT
BEGIN:VEVENT
DTSTART;TZID=UTC:20170506T090000
DTEND;TZID=UTC:20170506T130000
DTSTAMP:20260425T150706
CREATED:20170123T145424Z
LAST-MODIFIED:20170306T202126Z
UID:4373-1494061200-1494075600@cliftonparkopenspaces.org
SUMMARY:Learn to Fish Day in Clifton Park!
DESCRIPTION:The Town of Clifton Park and its Open Space\, Trails & Riverfront Committee are hosting the NYS Department of Environmental Conservation (NYS DEC) for a Learn-to-Fish Day event at the Barney Road Pond on Saturday\, May 6\, 2017.  This event is a kick-off for the annual May celebration of open spaces in Town. \nDEC staff will be available to help demonstrate how to fish\, for all ages\, and the benefits and values. \nAll are welcome between 9 a.m. to 1 p.m.  No equipment is necessary\, as the DEC will have some poles to borrow.  You can bring your own poles and gear if you do have it though. \nDuring the hours of this public event\, no fishing license is required. For future planning\, please know that fishing licenses may be obtained at the Town of Clifton Park Town Clerk’s office\, at Town Hall. \nThis event is open to the public.  There is no fee for the event. \nFor more information on the Learn-to-Fish event please call (518) 371-6054.
URL:https://cliftonparkopenspaces.org/event/learn-to-fish-day-in-clifton-park/
LOCATION:Barney Road Park\, 1 Barney Road\, Clifton Park\, NY\, United States
CATEGORIES:Barney Road Park,Family Event,Learn to Fish
ATTACH;FMTTYPE=image/jpeg:https://cliftonparkopenspaces.org/wp-content/uploads/2017/01/Flyer-2017-Learn-to-Fish-Day.jpg
END:VEVENT
END:VCALENDAR