BEGIN:VCALENDAR
VERSION:2.0
PRODID:-//Clifton Park Open Spaces - ECPv6.15.20//NONSGML v1.0//EN
CALSCALE:GREGORIAN
METHOD:PUBLISH
X-ORIGINAL-URL:https://cliftonparkopenspaces.org
X-WR-CALDESC:Events for Clifton Park Open Spaces
REFRESH-INTERVAL;VALUE=DURATION:PT1H
X-Robots-Tag:noindex
X-PUBLISHED-TTL:PT1H
BEGIN:VTIMEZONE
TZID:UTC
BEGIN:STANDARD
TZOFFSETFROM:+0000
TZOFFSETTO:+0000
TZNAME:UTC
DTSTART:20150101T000000
END:STANDARD
END:VTIMEZONE
BEGIN:VEVENT
DTSTART;TZID=UTC:20160804T190000
DTEND;TZID=UTC:20160804T210000
DTSTAMP:20260425T203021
CREATED:20160524T154939Z
LAST-MODIFIED:20160524T154939Z
UID:4214-1470337200-1470344400@cliftonparkopenspaces.org
SUMMARY:"Hike" & Seek for Clues and Guess the Book! Thurs.\, Aug. 4th @ Veterans Memorial Park
DESCRIPTION:A “Book Walk & Talk” event will be held Thursday\, August 4\, 2016\, starting at 7 p.m. to 9 p.m.\, at Veterans Memorial Park\, off of Elks Trail (road)\, off of MacElroy Road\, in northern Clifton Park.  This literary nature walk activity is presented by the Clifton Park – Halfmoon Library — out in the parks! \nArrive at 7 p.m. for a daylight walk\, or at 8 p.m. for a twilight walk. Bring your own flashlight! \nClues will be placed along an approximately\, 1-mile trail route — for participants to guess which book is being profiled.  All ages are welcome to join in the activity. \nJoin the Clifton Park – Halfmoon Library staff this summer for a series of literary nature walks on nature trails throughout the Town of Clifton Park. \nFor more information please call (518) 371-8622 and ask about the BOOK WALK & TALK program.  www.cphlibrary.org
URL:https://cliftonparkopenspaces.org/event/hike-seek-for-clues-and-guess-the-book-thurs-aug-4th-veterans-memorial-park/
LOCATION:Veterans Memorial Park & Mooney Carrese Forest\, Elks Trail\, off of MacElroy Road\, Clifton Park
CATEGORIES:Clifton Park-Halfmoon Library,Literary Nature Walk,Night Walk,Trails,Veterans Memorial
END:VEVENT
BEGIN:VEVENT
DTSTART;TZID=UTC:20160715T100000
DTEND;TZID=UTC:20160715T120000
DTSTAMP:20260425T203021
CREATED:20160524T153704Z
LAST-MODIFIED:20160524T153704Z
UID:4213-1468576800-1468584000@cliftonparkopenspaces.org
SUMMARY:"Hike" & Seek for Clues and Guess the Book! Friday\, July 15th @ North Woods Nature Preserve
DESCRIPTION:The second Book Walk & Talk in a 3-part series\, is Friday\, July 15\, 2016\, starting at 10 a.m. until noon\, at North Woods Nature Preserve\, entrance between 38 and 40 Shadow Wood Way\, in the Country Knolls neighborhood\, in northern Clifton Park.  This literary nature walk activity is presented by the Clifton Park – Halfmoon Library — out in the parks!  Parking is directly along Shadow Wood Way for this event. \nClues will be placed along an approximately\, 1-mile trail route — for participants to guess which book is being profiled.  All ages are welcome to join in the activity. \nThe activity will involve a group discussion and a walk at the beginning of each session\, or participants may arrive later for a solo walk. Trail maps will be available between 10 a.m. and noon that day. \nJoin the Clifton Park – Halfmoon Library staff this summer for a series of literary nature walks on nature trails throughout the Town of Clifton Park. The next\, and third\, Book Walk & Talk will be on Thursday\, August 4\, at 7 p.m. to 9 p.m.\, at Veterans Memorial Park. \nFor more information please call (518) 371-8622 and ask about the BOOK WALK & TALK program.  www.cphlibrary.org
URL:https://cliftonparkopenspaces.org/event/hike-seek-for-clues-and-guess-the-book-friday-july-15th-north-woods-nature-preserve/
LOCATION:North Woods Nature Preserve
CATEGORIES:Clifton Park-Halfmoon Library,Literary Nature Walk,North Woods,Trails
END:VEVENT
BEGIN:VEVENT
DTSTART;TZID=UTC:20160625T100000
DTEND;TZID=UTC:20160625T120000
DTSTAMP:20260425T203021
CREATED:20160524T153102Z
LAST-MODIFIED:20160524T154817Z
UID:4210-1466848800-1466856000@cliftonparkopenspaces.org
SUMMARY:"Hike" & Seek for Clues and Guess the Book! A Literary Nature Walk @ Hayes Nature Park
DESCRIPTION:The first Book Walk & Talk is Saturday\, June 25\, 2016\, starting at 10 a.m. until noon\, at Hayes Nature Park\, located off of Moe Road\, on the east side of the road\, south of Huntwood Drive\, and just north of Thoroughbred Way.  This activity is presented by the Clifton Park – Halfmoon Library — out in the parks!  A small parking lot is available off of Moe Road. \nClues will be placed along an approximately\, 1-mile trail route — for participants to guess which book is being profiled.  All ages are welcome to join in the activity. \nThe activity will involve a group discussion and a walk at the beginning of each session\, or participants may arrive later for a solo walk. Trail maps will be available between 10 a.m. and noon that day. \nJoin the Clifton Park – Halfmoon Library staff this summer for a series of literary nature walks on nature trails throughout the Town of Clifton Park.  The second event will take place on Friday\, July 15\, at 10 a.m. at North Woods Nature Preserve.  The third Book Walk & Talk will be on Thursday\, August 4\, at 7 p.m. to 9 p.m.\, at Veterans Memorial Park. \nFor more information please call (518) 371-8622 and ask about the BOOK WALK & TALK program.  www.cphlibrary.org
URL:https://cliftonparkopenspaces.org/event/hike-seek-for-clues-and-guess-the-book-a-literary-nature-walk-hayes-nature-park/
LOCATION:Hayes Nature Park\, 233 Moe Road\, Clifton Park\, NY\, 12065\, United States
CATEGORIES:Clifton Park-Halfmoon Library,Hayes Nature Park,Literary Nature Walk,Trails
END:VEVENT
END:VCALENDAR