BEGIN:VCALENDAR
VERSION:2.0
PRODID:-//Clifton Park Open Spaces - ECPv6.15.20//NONSGML v1.0//EN
CALSCALE:GREGORIAN
METHOD:PUBLISH
X-ORIGINAL-URL:https://cliftonparkopenspaces.org
X-WR-CALDESC:Events for Clifton Park Open Spaces
REFRESH-INTERVAL;VALUE=DURATION:PT1H
X-Robots-Tag:noindex
X-PUBLISHED-TTL:PT1H
BEGIN:VTIMEZONE
TZID:UTC
BEGIN:STANDARD
TZOFFSETFROM:+0000
TZOFFSETTO:+0000
TZNAME:UTC
DTSTART:20150101T000000
END:STANDARD
END:VTIMEZONE
BEGIN:VEVENT
DTSTART;TZID=UTC:20160603T130000
DTEND;TZID=UTC:20160603T143000
DTSTAMP:20260426T000607
CREATED:20160523T201024Z
LAST-MODIFIED:20160523T201024Z
UID:4207-1464958800-1464964200@cliftonparkopenspaces.org
SUMMARY:Group Walk at Martin Jewett Park vicinity set for Friday\, June 3
DESCRIPTION:Join the Stewardship Subcommittee for a walkabout starting at the entrance of Martin Jewett Park (often referred to as the Longkill Park) on Friday\, June 3\, 2016\, starting at 1 p.m. The hike will cover a loop around the public lands and public trails in the vicinity of this park\, located in the Country Knolls neighborhood.  Hikers will venture to Blue Spruce Lane\, Parkside Trail Soccer Fields\, and to the new trail along Longkill Road. \nThe park is on the east side of Longkill Road\, just north of Meridian Lane\, and just south of Parkside Trail. \nThe walk will be held from 1 p.m. until approximately 2:30 p.m.  All are welcome.  The walk will include rugged\, uneven terrain\, and may include some off-trail exploration to view the conditions of the public lands. \nStewardship Hikes are part of the Open Space Program and the Town of Clifton Park Open Space\, Trails & Riverfront Committee. Please RSVP to the Open Space Coordinator at (518) 371-6054. \n 
URL:https://cliftonparkopenspaces.org/event/group-walk-at-martin-jewett-park-vicinity-set-for-friday-june-3/
LOCATION:Martin Jewett Park\, 60 Longkill Road\, Ballston Lake\, NY\, 12019\, United States
CATEGORIES:Martin Jewett Park,Stewardship Hike,Trails
END:VEVENT
END:VCALENDAR