BEGIN:VCALENDAR
VERSION:2.0
PRODID:-//Clifton Park Open Spaces - ECPv6.15.20//NONSGML v1.0//EN
CALSCALE:GREGORIAN
METHOD:PUBLISH
X-WR-CALNAME:Clifton Park Open Spaces
X-ORIGINAL-URL:https://cliftonparkopenspaces.org
X-WR-CALDESC:Events for Clifton Park Open Spaces
REFRESH-INTERVAL;VALUE=DURATION:PT1H
X-Robots-Tag:noindex
X-PUBLISHED-TTL:PT1H
BEGIN:VTIMEZONE
TZID:UTC
BEGIN:STANDARD
TZOFFSETFROM:+0000
TZOFFSETTO:+0000
TZNAME:UTC
DTSTART:20160101T000000
END:STANDARD
END:VTIMEZONE
BEGIN:VEVENT
DTSTART;TZID=UTC:20170506T133000
DTEND;TZID=UTC:20170506T150000
DTSTAMP:20260425T170954
CREATED:20170406T170223Z
LAST-MODIFIED:20170406T173641Z
UID:4514-1494077400-1494082800@cliftonparkopenspaces.org
SUMMARY:Wildflower Ramble at Vischer Ferry Preserve
DESCRIPTION:Join Dave Behm\, naturalist\, at 1:30 p.m. for a guided hike to experience seasonal wildflowers\, flowering shrubs and trees\, at the Vischer Ferry Nature & Historic Preserve. Meet up at the Whipple Bridge Entrance to the Vischer Ferry Nature & Historic Preserve\, at the intersection of Riverview Road across from VanVranken Road. \nThis event is part of the Celebration of Open Space & History in Vischer Ferry (May 6 through June 4) collaboration of the Town of Clifton Park Open Space\, Trails & Riverfront Committee and Town of Clifton Park Historic Preservation Commission .
URL:https://cliftonparkopenspaces.org/event/wildflower-ramble-at-vischer-ferry-preserve/
LOCATION:Vischer Ferry Nature & Historic Preserve
CATEGORIES:Nature Education,Open Space Day,Vischer Ferry,Wildflower Walk
END:VEVENT
BEGIN:VEVENT
DTSTART;TZID=UTC:20170308T093000
DTEND;TZID=UTC:20170308T103000
DTSTAMP:20260425T170954
CREATED:20170201T170602Z
LAST-MODIFIED:20170306T200846Z
UID:4419-1488965400-1488969000@cliftonparkopenspaces.org
SUMMARY:Parent & Me Hike at North Woods Nature Preserve
DESCRIPTION:Come explore Clifton Park’s Open Spaces through a nature education program geared for young children. This “Parent & Me” Hike is at North Woods Nature Preserve\, located between 38 and 40 Shadow Wood Way in the heart of the Country Knolls neighborhood.  This is the second of five hikes at different locations\, are planned for each consecutive\, Wednesday morning in March 2017. \nMeet-up on Wed.\, March 8\, at 9:20 a.m. for the hike start at 9:30 a.m. and will incorporate a nature education theme. The hike will last approximately one hour. \nProgram facilitator Kelsi Clark will lead this morning nature outing for young children and their parents/grandparents/caregivers. \nWalks are designed to be “jogging stroller friendly” but a child backpack or front carrier is recommended\, depending on the age of the child participants. \nPlease dress appropriately for weather\, and trail conditions. \nThis is a free program.  Pre-registration is required through the Parks & Recreation Department\, https://recs.egov.basgov.com/cliftonpark/User/Login.  For more information\, please call (518) 371-6667.
URL:https://cliftonparkopenspaces.org/event/parent-me-hike-at-north-woods-nature-preserve-2/
LOCATION:North Woods Nature Preserve
CATEGORIES:Family Event,Guided,Nature Education,North Woods,Parent & Me Hike
ATTACH;FMTTYPE=image/jpeg:https://cliftonparkopenspaces.org/wp-content/uploads/2017/03/DSC03253.jpg
END:VEVENT
BEGIN:VEVENT
DTSTART;TZID=UTC:20170301T093000
DTEND;TZID=UTC:20170301T103000
DTSTAMP:20260425T170954
CREATED:20170201T165004Z
LAST-MODIFIED:20170201T170009Z
UID:4414-1488360600-1488364200@cliftonparkopenspaces.org
SUMMARY:Parent & Me Hike at Vischer Ferry Nature Preserve (Ferry Dr Entrance)
DESCRIPTION:Come explore Clifton Park’s Open Spaces through a nature education program geared for young children. This “Parent & Me” Hike is at Vischer Ferry Nature & Historic Preserve\, at the Ferry Drive Entrance (end of Ferry Drive) overlooking the Mohawk River.  This is the first of five hikes at different locations\, are planned for each consecutive\, Wednesday morning in March 2017. \nMeet-up at 9:20 a.m. for the hike start at 9:30 a.m. and will incorporate a nature education theme. The hike will last approximately one hour. \nProgram facilitator Kelsi Clark will lead this morning nature outing for young children and their parents/grandparents/caregivers. \nWalks are designed to be “jogging stroller friendly” but a child backpack or front carrier is recommended\, depending on the age of the child participants. \nPlease dress appropriately for weather\, and trail conditions. \nThis is a free program.  Pre-registration is required through the Parks & Recreation Department\, https://recs.egov.basgov.com/cliftonpark/User/Login.  For more information\, please call (518) 371-6667.
URL:https://cliftonparkopenspaces.org/event/parent-me-hike-at-vischer-ferry-nature-preserve-ferry-dr-entrance/
CATEGORIES:Family Event,Ferry Drive Entrance to Vischer Ferry Preserve,Guided,Mohawk Towpath Scenic Byway,Nature Education,Parent & Me Hike,Vischer Ferry
END:VEVENT
END:VCALENDAR