BEGIN:VCALENDAR
VERSION:2.0
PRODID:-//Clifton Park Open Spaces - ECPv6.15.20//NONSGML v1.0//EN
CALSCALE:GREGORIAN
METHOD:PUBLISH
X-ORIGINAL-URL:https://cliftonparkopenspaces.org
X-WR-CALDESC:Events for Clifton Park Open Spaces
REFRESH-INTERVAL;VALUE=DURATION:PT1H
X-Robots-Tag:noindex
X-PUBLISHED-TTL:PT1H
BEGIN:VTIMEZONE
TZID:UTC
BEGIN:STANDARD
TZOFFSETFROM:+0000
TZOFFSETTO:+0000
TZNAME:UTC
DTSTART:20150101T000000
END:STANDARD
END:VTIMEZONE
BEGIN:VEVENT
DTSTART;TZID=UTC:20161201T180000
DTEND;TZID=UTC:20161201T190000
DTSTAMP:20260425T171101
CREATED:20161121T164028Z
LAST-MODIFIED:20161121T164321Z
UID:4322-1480615200-1480618800@cliftonparkopenspaces.org
SUMMARY:Dec. 1 Public Meeting on Improved Access to the Vischer Ferry Preserve
DESCRIPTION:All are invited and welcome to attend a public informational meeting about planning for recreational access enhancements focused on the Vischer Ferry Nature & Historic Preserve\, in the Town of Clifton Park. The meeting is set for Thursday\, December 1\, 2016 at 6 p.m. to 7 p.m. at the Clifton Park Town Hall\, located at the intersection of Clifton Park Center Road and Vischer Ferry Road.  Consultants from Barton & Loguidice will lead the meeting\, joined by town officials and the Mohawk Towpath Scenic Byways Coalition. \nThe town in conjunction with the Mohawk Towpath Scenic Byway Coalition has been awarded multiple sources of outside assistance\, including state funding through the Hudson River Valley Greenway and New York State Canal Corporation and in addition\, federal funding through the National Scenic Byways – Federal Highway Administration\, and to date\, volunteer in-kind services by the Friends of the Mohawk Towpath. The combined funding is being utilized with local support\, to conduct planning\, design and construction of public access enhancements focused primarily at Clute’s Dry Dock vicinity and the Ferry Drive Gateway entrances into the Vischer Ferry Nature & Historic Preserve. \nPublic comments will also be accepted in writing through Dec. 30. \nFor more information please call (518) 371-6054. \n 
URL:https://cliftonparkopenspaces.org/event/dec-1-public-meeting-on-improved-access-to-the-vischer-ferry-preserve/
LOCATION:Clifton Park Town Hall\, One Town Hall Plaza\, Clifton Park \, NY\, 12065\, United States
CATEGORIES:Erie Canal,Hudson River Valley Greenway,Mohawk Towpath Scenic Byway,Public Meeting,Trails,Vischer Ferry
END:VEVENT
END:VCALENDAR