BEGIN:VCALENDAR
VERSION:2.0
PRODID:-//Clifton Park Open Spaces - ECPv6.15.20//NONSGML v1.0//EN
CALSCALE:GREGORIAN
METHOD:PUBLISH
X-ORIGINAL-URL:https://cliftonparkopenspaces.org
X-WR-CALDESC:Events for Clifton Park Open Spaces
REFRESH-INTERVAL;VALUE=DURATION:PT1H
X-Robots-Tag:noindex
X-PUBLISHED-TTL:PT1H
BEGIN:VTIMEZONE
TZID:UTC
BEGIN:STANDARD
TZOFFSETFROM:+0000
TZOFFSETTO:+0000
TZNAME:UTC
DTSTART:20150101T000000
END:STANDARD
END:VTIMEZONE
BEGIN:VEVENT
DTSTART;TZID=UTC:20180512T090000
DTEND;TZID=UTC:20180512T100000
DTSTAMP:20260425T184615
CREATED:20180511T153437Z
LAST-MODIFIED:20180511T153743Z
UID:4820-1526115600-1526119200@cliftonparkopenspaces.org
SUMMARY:9 a.m. Clean-Up at Mohawk Landing Nature Preserve
DESCRIPTION:Bring some gloves and loppers\, and help with a trail clean-up at the Mohawk Landing Nature Preserve\, sponsored by the Friends of Mohawk Towpath Scenic Byway on Sat.\, May 12\, 2018.  Meet up at 9 am at the preserve parking lot.  Immediately following the clean up activity\, is the Apple Blossom Festival at the next-door\, Riverview Orchards farm property\, from 10 a.m. to 4 p.m.
URL:https://cliftonparkopenspaces.org/event/9-a-m-clean-up-at-mohawk-landing-nature-preserve/
LOCATION:Mohawk Landing Nature Preserve\, 640 Riverview Road\, Rexford\, NY\, 12148\, United States
CATEGORIES:Mohawk Landing,Mohawk Towpath Scenic Byway,Riverview Road,Spring Clean Up,Volunteer Opportunitiy
END:VEVENT
BEGIN:VEVENT
DTSTART;TZID=UTC:20171015T083000
DTEND;TZID=UTC:20171015T123000
DTSTAMP:20260425T184615
CREATED:20170920T144531Z
LAST-MODIFIED:20170920T144531Z
UID:4641-1508056200-1508070600@cliftonparkopenspaces.org
SUMMARY:15th Annual Mohawk Towpath Byway Duathlon
DESCRIPTION:Register for the 15th Annual Mohawk Towpath Byway Duathlon at http://www.mohawktowpath.org/duathlon for Sunday\, Oct. 15 at 8:30 a.m. for a 2-mile run/17-mile bike ride/2-mile run to the finish. The Duathlon attracts top\, regional\, multi-sport athletes\, as well as recreational runners and cyclists. The start\, exchange area\, and finish are all at Riverview Orchards\, at 660 Riverview Road\, and the course are through rural\, fall foliage landscapes along the Mohawk Towpath Scenic Byway. Embroidered crew hats are available to the first 100 registered. All participants and volunteers receive a Giffy’s Bar-B-Q chicken dinner\, post-race. \n  \n 
URL:https://cliftonparkopenspaces.org/event/15th-annual-mohawk-towpath-byway-duathlon/
LOCATION:Riverview Orchards\, 660 Riverview Road\, Rexford\, NY\, 12148\, United States
CATEGORIES:Bike Ride,Duathlon,Mohawk Towpath Scenic Byway,Riverview Road
END:VEVENT
BEGIN:VEVENT
DTSTART;VALUE=DATE:20170513
DTEND;VALUE=DATE:20170514
DTSTAMP:20260425T184615
CREATED:20170201T151851Z
LAST-MODIFIED:20170201T151851Z
UID:4386-1494633600-1494719999@cliftonparkopenspaces.org
SUMMARY:Canals & Nature in Vischer Ferry! Celebrate History & Open Space in May!
DESCRIPTION:Please SAVE-THE-DATE for a joint event of the Town of Clifton Park Historic Preservation Commission and the Open Space\, Trails & Riverfront Committee slated for the weekend of Saturday\, May 13\, 2017. \nFRIDAY\, MAY 12:  A weekend kick-off event will be the Opening of the Erie Canal Exhibit at the newly restored upstairs of the Historic Grooms Tavern\, and a talk by Town Historian John Scherer on Friday\, May 12\, in the evening\, at Historic Grooms Tavern. Parking will be available at the Grooms Road entrance. Historic Grooms Tavern is located at the intersection of Grooms Road and Sugar Hill Road. \nSATURDAY\, MAY 13:  Activities will include: a guided walking tour of the Vischer Ferry National Historic District within the hamlet of Vischer Ferry; a guided walking tour of the Erie Canal along the towpath within the Vischer Ferry Nature & Historic Preserve. Tour the newly reconstructed Erie Canal Towpath Community Connector trail for a longer\, guided hike! \nFamily oriented activities will be offered throughout the day! \nBring your kayak or canoe\, and launch at Clute’s Dry Dock! \nFood and refreshments will be available at Vischer Ferry General Store\, 357 Riverview Road\, and further west\, at Riverview Orchards\, 660 Riverview Road (the site of the Apple Blossom Festival!). \nPartners include Mohawk Towpath Scenic Byway Coalition and more! \nFor more information\, to volunteer\, to get involved\, please contact the Open Space Coordinator at 518-371-6054.
URL:https://cliftonparkopenspaces.org/event/canals-nature-in-vischer-ferry-celebrate-history-open-space-in-may/
LOCATION:Vischer Ferry Nature & Historic Preserve
CATEGORIES:Apple Blossom Festival,Erie Canal,Family Event,Guided,Historic Grooms Tavern,Mohawk River Watershed,Mohawk Towpath Scenic Byway,Open Space Day,Riverview Road,Vischer Ferry,Wildflower Walk
END:VEVENT
BEGIN:VEVENT
DTSTART;TZID=UTC:20160605T130000
DTEND;TZID=UTC:20160605T160000
DTSTAMP:20260425T184615
CREATED:20160208T210738Z
LAST-MODIFIED:20160523T201801Z
UID:3916-1465131600-1465142400@cliftonparkopenspaces.org
SUMMARY:Group Bike Ride set for Sunday\, June 5th:  a National Trails Day Event
DESCRIPTION:This National Trails Day Ride — set for Sunday\, June 5\, 2016\, will start and finish at the Historic Grooms Tavern\, located off of Grooms Road at the Sugar Hill Road intersection.\nMeet up at Historic Grooms Tavern by about 12:45 p.m. for a 1 p.m. ride start.\nHelmets are required for everyone – all ages.\nThis guided ride will take a southern route through Clifton Park. It includes a tour of historic Erie Canal features\, and scenic views of local farmland and the vistas of the Mohawk River.\nA parking lot for cars is located off of Grooms Road immediately west of the building.\nLight refreshments will be provided.\nFor more information call (518) 371-6651.
URL:https://cliftonparkopenspaces.org/event/group-bike-ride-national-trails-day-event/
LOCATION:Historic Grooms Tavern\, 290 Sugar Hill Road\, Rexford\, NY\, 12148\, United States
CATEGORIES:Bike Ride,Erie Canal,Historic Grooms Tavern,Local History,Mohawk Towpath Scenic Byway,Riverview Road,Trails
END:VEVENT
BEGIN:VEVENT
DTSTART;TZID=UTC:20160401T130000
DTEND;TZID=UTC:20160401T150000
DTSTAMP:20260425T184615
CREATED:20160208T211038Z
LAST-MODIFIED:20160401T145724Z
UID:3918-1459515600-1459522800@cliftonparkopenspaces.org
SUMMARY:CANCELLED DUE TO STORM FRONT: Nature Hike at 41 Acres Site on Riverview Road
DESCRIPTION:
URL:https://cliftonparkopenspaces.org/event/nature-hike-at-41-acres-site-on-riverview-road/
LOCATION:Unnamed Venue
CATEGORIES:Riverview Road,Stewardship Hike
END:VEVENT
END:VCALENDAR