BEGIN:VCALENDAR
VERSION:2.0
PRODID:-//Clifton Park Open Spaces - ECPv6.15.20//NONSGML v1.0//EN
CALSCALE:GREGORIAN
METHOD:PUBLISH
X-WR-CALNAME:Clifton Park Open Spaces
X-ORIGINAL-URL:https://cliftonparkopenspaces.org
X-WR-CALDESC:Events for Clifton Park Open Spaces
REFRESH-INTERVAL;VALUE=DURATION:PT1H
X-Robots-Tag:noindex
X-PUBLISHED-TTL:PT1H
BEGIN:VTIMEZONE
TZID:UTC
BEGIN:STANDARD
TZOFFSETFROM:+0000
TZOFFSETTO:+0000
TZNAME:UTC
DTSTART:20150101T000000
END:STANDARD
END:VTIMEZONE
BEGIN:VEVENT
DTSTART;TZID=UTC:20171103T130000
DTEND;TZID=UTC:20171103T150000
DTSTAMP:20260425T190339
CREATED:20170725T194714Z
LAST-MODIFIED:20171027T145920Z
UID:4595-1509714000-1509721200@cliftonparkopenspaces.org
SUMMARY:Hike Garnsey Park!
DESCRIPTION:Join the Town of Clifton Park Open Space\, Trails & Riverfront Committee for a Stewardship Hike at Garnsey Park on Friday\, Nov. 3\, 2017. Meet up at just before 1 p.m. at the main trailhead entrance to Garnsey Park\, directly off of NYS Route 146. \nPlease RSVP by calling the Open Space Coordinator at (518) 371-6054. \n 
URL:https://cliftonparkopenspaces.org/event/hike-garnsey-park/
LOCATION:Garnsey Park\, 1461 NY 146\, Rexford\, NY\, 12148\, United States
CATEGORIES:Garnsey,Stewardship Hike
ATTACH;FMTTYPE=application/pdf:https://cliftonparkopenspaces.org/wp-content/uploads/2017/07/NOV-2017-Stewardship-Hike-GARNSEY-PARK.pdf
END:VEVENT
BEGIN:VEVENT
DTSTART;TZID=UTC:20171013T130000
DTEND;TZID=UTC:20171013T143000
DTSTAMP:20260425T190339
CREATED:20170725T184433Z
LAST-MODIFIED:20170725T193724Z
UID:4592-1507899600-1507905000@cliftonparkopenspaces.org
SUMMARY:Hike at Hayes Nature Park & West Sky Natural Area vicinity
DESCRIPTION:Please join the Town of Clifton Park Open Space\, Trails & Riverfront Committee for a Stewardship Hike at Hayes Nature Park and time permitting\, of the West Sky Natural Area as well.  We will scan for current conditions and note observations.  Meet up is just before 1 p.m. at the Hayes Nature Park – Moe Road entrance where there is a small parking lot. \nPlease RSVP by calling the Open Space Coordinator at (518) 371-6054.
URL:https://cliftonparkopenspaces.org/event/hike-at-hayes-nature-park-west-sky-natural-area-vicinity/
LOCATION:Hayes Nature Park\, 233 Moe Road\, Clifton Park\, NY\, 12065\, United States
CATEGORIES:Hayes Nature Park,Stewardship Hike
END:VEVENT
BEGIN:VEVENT
DTSTART;TZID=UTC:20170908T130000
DTEND;TZID=UTC:20170908T143000
DTSTAMP:20260425T190339
CREATED:20170725T182107Z
LAST-MODIFIED:20170725T182716Z
UID:4586-1504875600-1504881000@cliftonparkopenspaces.org
SUMMARY:Hike @ Clifton Gardens Park & Spirit Park!
DESCRIPTION:Join the Town of Clifton Park Open Space\, Trails & Riverfront Committee for a Stewardship Hike at Clifton Gardens Park and view the work of Keegan Skinner in his quest to earn the Eagle Scout honor.  The meet up is just before 1 p.m. at the Clifton Gardens Park entrance at the end of Ivy Court. Time permitting\, we will walk north to Spirit Park as well.  The walk will be approximately 90 minutes ending by 2:30 p.m. \nPlease RSVP by calling the Open Space Coordinator at (518) 371-6054.
URL:https://cliftonparkopenspaces.org/event/hike-clifton-gardens-park-spirit-park/
LOCATION:Clifton Gardens Park\, 2 Ivy Court\, Clifton Park\, 12065\, United States
CATEGORIES:Stewardship Hike
END:VEVENT
BEGIN:VEVENT
DTSTART;TZID=UTC:20170707T130000
DTEND;TZID=UTC:20170707T150000
DTSTAMP:20260425T190339
CREATED:20170109T170052Z
LAST-MODIFIED:20170109T170206Z
UID:4360-1499432400-1499439600@cliftonparkopenspaces.org
SUMMARY:Stewardship Hike at Kinns Road Park on July 7
DESCRIPTION:Join us for a forest hike at Kinns Road Park. Participants will help evaluate conditions with town staff.  Please wear appropriate footwear.  Hike begins at 1 p.m.  Please meet up at the parking lot trailhead off of Kinns Road. \nPlease RSVP by calling (518) 371-6054.
URL:https://cliftonparkopenspaces.org/event/stewardship-hike-at-kinns-road-park-on-july-7/
LOCATION:Kinns Road Park\, 625 Kinns Road\, Clifton Park \, NY\, 12065\, United States
CATEGORIES:Kinns Road,Stewardship Hike
END:VEVENT
BEGIN:VEVENT
DTSTART;TZID=UTC:20170602T010000
DTEND;TZID=UTC:20170602T150000
DTSTAMP:20260425T190339
CREATED:20170109T172618Z
LAST-MODIFIED:20170109T172618Z
UID:4366-1496365200-1496415600@cliftonparkopenspaces.org
SUMMARY:Hike the 41 Acres Steinmetz Site on June 2
DESCRIPTION:Join us for a Stewardship Hike at 41 acres along the riverfront that the Town of Clifton Park acquired. \nPlease RSVP and get directions on parking locations by calling the Open Space Coordinator at (518) 371-6054. \n 
URL:https://cliftonparkopenspaces.org/event/hike-the-41-acres-steinmetz-site-on-june-2/
LOCATION:NY
CATEGORIES:41 Acres Site,Stewardship Hike
END:VEVENT
BEGIN:VEVENT
DTSTART;TZID=UTC:20170407T000000
DTEND;TZID=UTC:20170407T000000
DTSTAMP:20260425T190339
CREATED:20170109T162424Z
LAST-MODIFIED:20170404T175029Z
UID:4354-1491523200-1491523200@cliftonparkopenspaces.org
SUMMARY:CANCELLED - Stewardship Hike to Explore Peter Desrochers Memorial Trails on April 7
DESCRIPTION:THIS EVENT IS CANCELLED. We apologize for any inconvenience! We will look to reschedule the walk at the Peter Desrochers Memorial Trails at a future date and time\, and get the word out! \nPlease feel free to call (518) 371-6054 if you have any questions. \nCountryKnollsTrails-Map final 11×17 \n 
URL:https://cliftonparkopenspaces.org/event/stewardship-hike-to-explore-peter-desrochers-memorial-trails-on-april-7/
LOCATION:NY
CATEGORIES:Stewardship Hike
END:VEVENT
BEGIN:VEVENT
DTSTART;TZID=UTC:20170303T130000
DTEND;TZID=UTC:20170303T150000
DTSTAMP:20260425T190339
CREATED:20170109T160228Z
LAST-MODIFIED:20170109T160228Z
UID:4351-1488546000-1488553200@cliftonparkopenspaces.org
SUMMARY:Stewardship Hike at Veterans Memorial Park on March 3
DESCRIPTION:Participants will help evaluate conditions / needs at Veterans Memorial Park with the Open Space Coordinator. The walk will focus on the northern area of the property and its intersection with the future parkland of Rolling Meadows. \nThis Stewardship Hike will be led by Town Staff. Please RSVP at (518) 371-6054.
URL:https://cliftonparkopenspaces.org/event/stewardship-hike-at-veterans-memorial-park-on-march-3/
LOCATION:Veterans Memorial Park & Mooney Carrese Forest\, Elks Trail\, off of MacElroy Road\, Clifton Park
CATEGORIES:Stewardship Hike,Veterans Memorial
END:VEVENT
BEGIN:VEVENT
DTSTART;TZID=UTC:20170203T130000
DTEND;TZID=UTC:20170203T150000
DTSTAMP:20260425T190339
CREATED:20170106T145732Z
LAST-MODIFIED:20170106T145805Z
UID:4339-1486126800-1486134000@cliftonparkopenspaces.org
SUMMARY:Vischer Ferry Nature & Historic Preserve Stewardship Hike on Feb. 3
DESCRIPTION:Please meet up at the end of Ferry Drive for a winter Stewardship Hike.
URL:https://cliftonparkopenspaces.org/event/vischer-ferry-nature-historic-preserve-stewardship-hike-on-feb-3/
LOCATION:Vischer Ferry Nature & Historic Preserve
CATEGORIES:Stewardship Hike,Vischer Ferry
END:VEVENT
BEGIN:VEVENT
DTSTART;TZID=UTC:20160603T130000
DTEND;TZID=UTC:20160603T143000
DTSTAMP:20260425T190339
CREATED:20160523T201024Z
LAST-MODIFIED:20160523T201024Z
UID:4207-1464958800-1464964200@cliftonparkopenspaces.org
SUMMARY:Group Walk at Martin Jewett Park vicinity set for Friday\, June 3
DESCRIPTION:Join the Stewardship Subcommittee for a walkabout starting at the entrance of Martin Jewett Park (often referred to as the Longkill Park) on Friday\, June 3\, 2016\, starting at 1 p.m. The hike will cover a loop around the public lands and public trails in the vicinity of this park\, located in the Country Knolls neighborhood.  Hikers will venture to Blue Spruce Lane\, Parkside Trail Soccer Fields\, and to the new trail along Longkill Road. \nThe park is on the east side of Longkill Road\, just north of Meridian Lane\, and just south of Parkside Trail. \nThe walk will be held from 1 p.m. until approximately 2:30 p.m.  All are welcome.  The walk will include rugged\, uneven terrain\, and may include some off-trail exploration to view the conditions of the public lands. \nStewardship Hikes are part of the Open Space Program and the Town of Clifton Park Open Space\, Trails & Riverfront Committee. Please RSVP to the Open Space Coordinator at (518) 371-6054. \n 
URL:https://cliftonparkopenspaces.org/event/group-walk-at-martin-jewett-park-vicinity-set-for-friday-june-3/
LOCATION:Martin Jewett Park\, 60 Longkill Road\, Ballston Lake\, NY\, 12019\, United States
CATEGORIES:Martin Jewett Park,Stewardship Hike,Trails
END:VEVENT
BEGIN:VEVENT
DTSTART;TZID=UTC:20160506T130000
DTEND;TZID=UTC:20160506T150000
DTSTAMP:20260425T190339
CREATED:20160310T144759Z
LAST-MODIFIED:20160310T144814Z
UID:3878-1462539600-1462546800@cliftonparkopenspaces.org
SUMMARY:Stewardship Hike at Veterans Memorial Park & Mooney Carrese Forest
DESCRIPTION:
URL:https://cliftonparkopenspaces.org/event/stewardship-hike-at-veterans-memorial-park-mooney-carrese-forest/
LOCATION:Veterans Memorial Park & Mooney Carrese Forest\, Elks Trail\, off of MacElroy Road\, Clifton Park
CATEGORIES:Guided,Stewardship Hike,Veterans Memorial
END:VEVENT
BEGIN:VEVENT
DTSTART;TZID=UTC:20160401T130000
DTEND;TZID=UTC:20160401T150000
DTSTAMP:20260425T190339
CREATED:20160208T211038Z
LAST-MODIFIED:20160401T145724Z
UID:3918-1459515600-1459522800@cliftonparkopenspaces.org
SUMMARY:CANCELLED DUE TO STORM FRONT: Nature Hike at 41 Acres Site on Riverview Road
DESCRIPTION:
URL:https://cliftonparkopenspaces.org/event/nature-hike-at-41-acres-site-on-riverview-road/
LOCATION:Unnamed Venue
CATEGORIES:Riverview Road,Stewardship Hike
END:VEVENT
END:VCALENDAR