BEGIN:VCALENDAR
VERSION:2.0
PRODID:-//Clifton Park Open Spaces - ECPv6.15.20//NONSGML v1.0//EN
CALSCALE:GREGORIAN
METHOD:PUBLISH
X-ORIGINAL-URL:https://cliftonparkopenspaces.org
X-WR-CALDESC:Events for Clifton Park Open Spaces
REFRESH-INTERVAL;VALUE=DURATION:PT1H
X-Robots-Tag:noindex
X-PUBLISHED-TTL:PT1H
BEGIN:VTIMEZONE
TZID:UTC
BEGIN:STANDARD
TZOFFSETFROM:+0000
TZOFFSETTO:+0000
TZNAME:UTC
DTSTART:20150101T000000
END:STANDARD
END:VTIMEZONE
BEGIN:VEVENT
DTSTART;TZID=UTC:20160401T130000
DTEND;TZID=UTC:20160401T150000
DTSTAMP:20260425T204738
CREATED:20160208T211038Z
LAST-MODIFIED:20160401T145724Z
UID:3918-1459515600-1459522800@cliftonparkopenspaces.org
SUMMARY:CANCELLED DUE TO STORM FRONT: Nature Hike at 41 Acres Site on Riverview Road
DESCRIPTION:
URL:https://cliftonparkopenspaces.org/event/nature-hike-at-41-acres-site-on-riverview-road/
LOCATION:Unnamed Venue
CATEGORIES:Riverview Road,Stewardship Hike
END:VEVENT
END:VCALENDAR